BEGIN:VCALENDAR
VERSION:2.0
PRODID:-//Unité de service Emerode - Université de Caen Normandie - ECPv6.15.18//NONSGML v1.0//EN
CALSCALE:GREGORIAN
METHOD:PUBLISH
X-WR-CALNAME:Unité de service Emerode - Université de Caen Normandie
X-ORIGINAL-URL:https://emerode.unicaen.fr
X-WR-CALDESC:Évènements pour Unité de service Emerode - Université de Caen Normandie
REFRESH-INTERVAL;VALUE=DURATION:PT1H
X-Robots-Tag:noindex
X-PUBLISHED-TTL:PT1H
BEGIN:VTIMEZONE
TZID:Europe/Paris
BEGIN:DAYLIGHT
TZOFFSETFROM:+0100
TZOFFSETTO:+0200
TZNAME:CEST
DTSTART:20220327T010000
END:DAYLIGHT
BEGIN:STANDARD
TZOFFSETFROM:+0200
TZOFFSETTO:+0100
TZNAME:CET
DTSTART:20221030T010000
END:STANDARD
BEGIN:DAYLIGHT
TZOFFSETFROM:+0100
TZOFFSETTO:+0200
TZNAME:CEST
DTSTART:20230326T010000
END:DAYLIGHT
BEGIN:STANDARD
TZOFFSETFROM:+0200
TZOFFSETTO:+0100
TZNAME:CET
DTSTART:20231029T010000
END:STANDARD
BEGIN:DAYLIGHT
TZOFFSETFROM:+0100
TZOFFSETTO:+0200
TZNAME:CEST
DTSTART:20240331T010000
END:DAYLIGHT
BEGIN:STANDARD
TZOFFSETFROM:+0200
TZOFFSETTO:+0100
TZNAME:CET
DTSTART:20241027T010000
END:STANDARD
END:VTIMEZONE
BEGIN:VEVENT
DTSTART;TZID=Europe/Paris:20231212T170000
DTEND;TZID=Europe/Paris:20231212T190000
DTSTAMP:20260419T154543
CREATED:20231122T151847Z
LAST-MODIFIED:20231123T083134Z
UID:5366-1702400400-1702407600@emerode.unicaen.fr
SUMMARY:Conférence AFM-IR
DESCRIPTION:Visio-Conférence avec le Dr Sun Park de molecular Vista sur l’AFM IR voir le lien web concernant le sondage et les documents \n\n\n\nDans le cadre du CPER µCOSMOS en cours l’équipe CMAbio3 envisage d’équiper le plateau µFluDesign d’un AFM-IR (microscope à force atomique couplé à un système d’analyse infra-rouge). \n\n\n\nPour en savoir plus ou découvrir les applications de l’AFM-IR\, une visio-conférence avec l’un des spécialistes mondiaux de la technique d’analyse de spectres Infra-Rouge à l’échelle nanométrique par AFM IR\, Sun Park de la société Molecular Vista basée en Californie\, est organisée \n\n\n\nLa société Molecular Vista analyse des dizaines d’échantillons par an et peut nous montrer des applications concrètes de l’AFM-IR lors de cette visio-conférence. \n\n\n\nPour organiser cette réunion\, l’équipe recense les centres d’intérêts des participants.
URL:https://emerode.unicaen.fr/evenement/conference-afm-ir/
CATEGORIES:Conférence
END:VEVENT
END:VCALENDAR